BEGIN:VCALENDAR
VERSION:2.0
PRODID:-//California Cattlemen's Association - ECPv6.15.20//NONSGML v1.0//EN
CALSCALE:GREGORIAN
METHOD:PUBLISH
X-WR-CALNAME:California Cattlemen's Association
X-ORIGINAL-URL:https://calcattlemen.org
X-WR-CALDESC:Events for California Cattlemen's Association
REFRESH-INTERVAL;VALUE=DURATION:PT1H
X-Robots-Tag:noindex
X-PUBLISHED-TTL:PT1H
BEGIN:VTIMEZONE
TZID:America/Los_Angeles
BEGIN:DAYLIGHT
TZOFFSETFROM:-0800
TZOFFSETTO:-0700
TZNAME:PDT
DTSTART:20250309T100000
END:DAYLIGHT
BEGIN:STANDARD
TZOFFSETFROM:-0700
TZOFFSETTO:-0800
TZNAME:PST
DTSTART:20251102T090000
END:STANDARD
BEGIN:DAYLIGHT
TZOFFSETFROM:-0800
TZOFFSETTO:-0700
TZNAME:PDT
DTSTART:20260308T100000
END:DAYLIGHT
BEGIN:STANDARD
TZOFFSETFROM:-0700
TZOFFSETTO:-0800
TZNAME:PST
DTSTART:20261101T090000
END:STANDARD
BEGIN:DAYLIGHT
TZOFFSETFROM:-0800
TZOFFSETTO:-0700
TZNAME:PDT
DTSTART:20270314T100000
END:DAYLIGHT
BEGIN:STANDARD
TZOFFSETFROM:-0700
TZOFFSETTO:-0800
TZNAME:PST
DTSTART:20271107T090000
END:STANDARD
END:VTIMEZONE
BEGIN:VEVENT
DTSTART;VALUE=DATE:20260624
DTEND;VALUE=DATE:20260626
DTSTAMP:20260422T061633
CREATED:20260316T185623Z
LAST-MODIFIED:20260316T185623Z
UID:24066-1782259200-1782431999@calcattlemen.org
SUMMARY:2026 Midyear Meeting
DESCRIPTION:Online registration and more details coming soon!\nThis year’s Midyear Meeting will be at the Atlantis Casino Resort.\nWe encourage you to maximize your membership by attending and being an active part of the CCA policy making process. Come discuss current cattle industry issues with fellow producers\, as well as hear from industry leaders\, agencies and affiliate organizations. Your voice helps develop policy that provides direction for your organization and will influence the future of ranching.
URL:https://calcattlemen.org/event/2026-midyear-meeting/
LOCATION:Atlantis Casino Resort Spa Reno\, 3800 S. Virginia Street\, Reno\, NV\, 89502\, United States
CATEGORIES:Midyear
ATTACH;FMTTYPE=image/jpeg:https://calcattlemen.org/wp-content/uploads/2026/03/midyearmeeting2026.jpg
END:VEVENT
END:VCALENDAR